BEGIN:VCALENDAR
VERSION:2.0
PRODID:-//Products and Services Review - ECPv6.15.15//NONSGML v1.0//EN
CALSCALE:GREGORIAN
METHOD:PUBLISH
X-WR-CALNAME:Products and Services Review
X-ORIGINAL-URL:https://www.productsandservicesreview.co.uk
X-WR-CALDESC:Events for Products and Services Review
REFRESH-INTERVAL;VALUE=DURATION:PT1H
X-Robots-Tag:noindex
X-PUBLISHED-TTL:PT1H
BEGIN:VTIMEZONE
TZID:Europe/London
BEGIN:DAYLIGHT
TZOFFSETFROM:+0000
TZOFFSETTO:+0100
TZNAME:BST
DTSTART:20230326T010000
END:DAYLIGHT
BEGIN:STANDARD
TZOFFSETFROM:+0100
TZOFFSETTO:+0000
TZNAME:GMT
DTSTART:20231029T010000
END:STANDARD
BEGIN:DAYLIGHT
TZOFFSETFROM:+0000
TZOFFSETTO:+0100
TZNAME:BST
DTSTART:20240331T010000
END:DAYLIGHT
BEGIN:STANDARD
TZOFFSETFROM:+0100
TZOFFSETTO:+0000
TZNAME:GMT
DTSTART:20241027T010000
END:STANDARD
BEGIN:DAYLIGHT
TZOFFSETFROM:+0000
TZOFFSETTO:+0100
TZNAME:BST
DTSTART:20250330T010000
END:DAYLIGHT
BEGIN:STANDARD
TZOFFSETFROM:+0100
TZOFFSETTO:+0000
TZNAME:GMT
DTSTART:20251026T010000
END:STANDARD
END:VTIMEZONE
BEGIN:VEVENT
DTSTART;TZID=Europe/London:20241106T090000
DTEND;TZID=Europe/London:20241107T170000
DTSTAMP:20260424T131842
CREATED:20240419T130538Z
LAST-MODIFIED:20240419T131056Z
UID:4599-1730883600-1730998800@www.productsandservicesreview.co.uk
SUMMARY:CIPD Annual Conference & Exhibition
DESCRIPTION:Stay ahead of the curve — Embrace innovation and reshape work culture\nTaking place on 8-9 November 2023\, at Manchester Central\, we tackled the big questions facing the profession. \nWhether you attended for free with an Exhibition pass or purchased a Conference pass and attended as a delegate\, you were able to get involved with unmissable learning and networking opportunities and discover new and leading suppliers. Blending inspiring and thought-provoking speakers and in-person immersive event experiences. Creating an unforgettable event experience accessible to all. \nIn today’s ever-changing world\, we recognised the importance of equipping you with the skills and capabilities needed to not just survive; but thrive.  Attendees discovered the secrets to championing good work and attracting the right talent. Developing their leadership and management styles\, to enable growth and long term success.
URL:https://www.productsandservicesreview.co.uk/event/cipd-annual-conference-exhibition
LOCATION:Manchester Central\, Windmill Street\, Manchester\, M2 3GX\, United Kingdom
ATTACH;FMTTYPE=image/jpeg:https://www.productsandservicesreview.co.uk/wp-content/uploads/2024/04/CIPD_821_02.jpg
ORGANIZER;CN="Haymarket Media Group Ltd":MAILTO:info@wonderly.agency
END:VEVENT
END:VCALENDAR